BEGIN:VCALENDAR
VERSION:2.0
PRODID:-//ChamberMaster//Event Calendar 2.0//EN
METHOD:PUBLISH
X-PUBLISHED-TTL:P1H
REFRESH-INTERVAL:P1H
CALSCALE:GREGORIAN
BEGIN:VTIMEZONE
TZID:America/Los_Angeles
BEGIN:DAYLIGHT
RRULE:FREQ=YEARLY;BYMONTH=3;BYDAY=2SU
DTSTART:20070101T000000
TZOFFSETFROM:-0800
TZOFFSETTO:-0700
TZNAME:Pacific Daylight Time
END:DAYLIGHT
BEGIN:STANDARD
RRULE:FREQ=YEARLY;BYMONTH=11;BYDAY=1SU
DTSTART:20070101T000000
TZOFFSETFROM:-0700
TZOFFSETTO:-0800
TZNAME:Pacific Standard Time
END:STANDARD
END:VTIMEZONE
BEGIN:VEVENT
DTSTART;TZID=America/Los_Angeles:20240831T100000
DTEND;TZID=America/Los_Angeles:20240831T150000
X-MICROSOFT-CDO-ALLDAYEVENT:FALSE
SUMMARY:DMRBIA Summer Market - Art in the Park
DESCRIPTION:Join us for a delightful day of shopping and exploration as you peruse the unique offerings from our talented vendors. From unique jewellery selections to intricate one of kind pieces\, and irresistible delights\, immerse yourself in the works from local artists that promise to inspire and captivate. Take a leisurely stroll through our market and discover extraordinary treasures that will add a touch of artistry to your life.
X-ALT-DESC;FMTTYPE=text/html:<!DOCTYPE html><html><head><title></title></head><body aria-disabled="false"><p><span style="font-size: 24px\;">Join us for a delightful day of shopping and exploration as you peruse the unique offerings from our talented vendors. From unique jewellery selections to intricate one of kind pieces\, and irresistible delights\, immerse yourself in the works from local artists that promise to inspire and captivate. Take a leisurely stroll through our market and discover extraordinary treasures that will add a touch of artistry to your life.</span></p><p><br></p></body></html>
LOCATION:11930 224 Street Maple Ridge BC
UID:e.2772.977519
SEQUENCE:3
DTSTAMP:20260423T025451Z
URL:https://members.downtownmapleridge.ca/community-events/Details/dmrbia-summer-market-art-in-the-park-1116795?sourceTypeId=Hub
END:VEVENT
END:VCALENDAR
